BEGIN:VCALENDAR
VERSION:2.0
PRODID:-//wp-events-plugin.com//7.2.3.1//EN
TZID:Europe/Zurich
X-WR-TIMEZONE:Europe/Zurich
BEGIN:VEVENT
UID:3566@yoga-8.ch
DTSTART;TZID=Europe/Zurich:20260819T103000
DTEND;TZID=Europe/Zurich:20260819T113000
DTSTAMP:20251125T133503Z
URL:https://yoga-8.ch/cours-de-yoga/yoga-plein-air-7-2026-08-19/
SUMMARY:Yoga plein air ou en salle/voir meteo
DESCRIPTION:Pranayama-Hatha-Vinyasa-Inversion+Tummo(bain froid) à la Tour 
 de Peilz dedans 25.- ou dehors 20.-(me contacter si pluie)
END:VEVENT
BEGIN:VTIMEZONE
TZID:Europe/Zurich
X-LIC-LOCATION:Europe/Zurich
BEGIN:DAYLIGHT
DTSTART:20260329T030000
TZOFFSETFROM:+0100
TZOFFSETTO:+0200
TZNAME:CEST
END:DAYLIGHT
END:VTIMEZONE
END:VCALENDAR