BEGIN:VCALENDAR
VERSION:2.0
PRODID:-//wp-events-plugin.com//7.2.3.1//EN
TZID:Europe/Zurich
X-WR-TIMEZONE:Europe/Zurich
BEGIN:VEVENT
UID:3073@yoga-8.ch
DTSTART;TZID=Europe/Zurich:20240919T103000
DTEND;TZID=Europe/Zurich:20240919T113000
DTSTAMP:20240506T160149Z
URL:https://yoga-8.ch/cours-de-yoga/yoga-plein-air-5-2024-09-19/
SUMMARY:Yoga plein air
DESCRIPTION:Ce cours a lieu tous les jeudis de 10h30 à 11h30.\n\nCHF 25.- 
 \, paiement cash / Twint.\n\nSur l'herbe\, prenez vos tapis!\n\n
END:VEVENT
BEGIN:VTIMEZONE
TZID:Europe/Zurich
X-LIC-LOCATION:Europe/Zurich
BEGIN:DAYLIGHT
DTSTART:20240331T030000
TZOFFSETFROM:+0100
TZOFFSETTO:+0200
TZNAME:CEST
END:DAYLIGHT
END:VTIMEZONE
END:VCALENDAR