BEGIN:VCALENDAR
VERSION:2.0
PRODID:-//wp-events-plugin.com//7.2.3.1//EN
TZID:Europe/Zurich
X-WR-TIMEZONE:Europe/Zurich
BEGIN:VEVENT
UID:2893@yoga-8.ch
DTSTART;TZID=Europe/Zurich:20240417T193000
DTEND;TZID=Europe/Zurich:20240417T195000
DTSTAMP:20240117T113636Z
URL:https://yoga-8.ch/cours-de-yoga/yoga-nidra-2024-04-17/
SUMMARY:Yoga Nidra à Vevey
DESCRIPTION:Pratique allongée sur le dos. Cette méthode protéiforme syst
 ématique à même d’induire une relaxation complte émotionnelle\, ment
 ale et physique convient à toustes. Elle harmonise le potentiel inconscie
 nt et l’éveil intérieur.
LOCATION:Espace Camille Saint-Saëns\, Place du Marché 1\, Vevey\, Vaud\, 
 1800\, Suisse
GEO:46.459309;6.842947
X-APPLE-STRUCTURED-LOCATION;VALUE=URI;X-ADDRESS=Place du Marché 1\, Vevey\
 , Vaud\, 1800\, Suisse;X-APPLE-RADIUS=100;X-TITLE=Espace Camille Saint-Sa
 ëns:geo:46.459309,6.842947
END:VEVENT
BEGIN:VTIMEZONE
TZID:Europe/Zurich
X-LIC-LOCATION:Europe/Zurich
BEGIN:DAYLIGHT
DTSTART:20240331T030000
TZOFFSETFROM:+0100
TZOFFSETTO:+0200
TZNAME:CEST
END:DAYLIGHT
END:VTIMEZONE
END:VCALENDAR