BEGIN:VCALENDAR
VERSION:2.0
PRODID:-//wp-events-plugin.com//7.2.3.1//EN
TZID:Europe/Zurich
X-WR-TIMEZONE:Europe/Zurich
BEGIN:VEVENT
UID:3083@yoga-8.ch
DTSTART;TZID=Europe/Zurich:20241030T181500
DTEND;TZID=Europe/Zurich:20241030T200000
DTSTAMP:20241022T152840Z
URL:https://yoga-8.ch/cours-de-yoga/yoga-castillo-vevey-5/
SUMMARY:Yoga Castillo Vevey
DESCRIPTION:Prana Power Nidra
END:VEVENT
BEGIN:VTIMEZONE
TZID:Europe/Zurich
X-LIC-LOCATION:Europe/Zurich
BEGIN:STANDARD
DTSTART:20241027T020000
TZOFFSETFROM:+0200
TZOFFSETTO:+0100
TZNAME:CET
END:STANDARD
END:VTIMEZONE
END:VCALENDAR