BEGIN:VCALENDAR
VERSION:2.0
PRODID:-//wp-events-plugin.com//7.2.3.1//EN
TZID:Europe/Zurich
X-WR-TIMEZONE:Europe/Zurich
BEGIN:VEVENT
UID:3429@yoga-8.ch
DTSTART;TZID=Europe/Zurich:20250423T103000
DTEND;TZID=Europe/Zurich:20250423T113000
DTSTAMP:20241111T190211Z
URL:https://yoga-8.ch/cours-de-yoga/yoga-au-castillo-a-vevey-2025-04-23/
SUMMARY:Hatha Yoga au Castillo à Vevey
DESCRIPTION:Hatha Yoga suvi d'une immersion au lac !
LOCATION:Espace Camille Saint-Saëns\, Place du Marché 1\, Vevey\, Vaud\, 
 1800\, Suisse
GEO:46.459309;6.842947
X-APPLE-STRUCTURED-LOCATION;VALUE=URI;X-ADDRESS=Place du Marché 1\, Vevey\
 , Vaud\, 1800\, Suisse;X-APPLE-RADIUS=100;X-TITLE=Espace Camille Saint-Sa
 ëns:geo:46.459309,6.842947
END:VEVENT
BEGIN:VTIMEZONE
TZID:Europe/Zurich
X-LIC-LOCATION:Europe/Zurich
BEGIN:DAYLIGHT
DTSTART:20250330T030000
TZOFFSETFROM:+0100
TZOFFSETTO:+0200
TZNAME:CEST
END:DAYLIGHT
END:VTIMEZONE
END:VCALENDAR