BEGIN:VCALENDAR
VERSION:2.0
PRODID:-//wp-events-plugin.com//7.2.3.1//EN
TZID:Europe/Zurich
X-WR-TIMEZONE:Europe/Zurich
BEGIN:VEVENT
UID:2926@yoga-8.ch
DTSTART;TZID=Europe/Zurich:20240410T141500
DTEND;TZID=Europe/Zurich:20240410T153000
DTSTAMP:20240117T113831Z
URL:https://yoga-8.ch/cours-de-yoga/hatha-yoga-a-vevey-a-p-2024-04-10/
SUMMARY:Hatha Yoga à Vevey
DESCRIPTION:Cet enseignement du Hatha Yoga s’adapte parfaitement à tous\
 , du débutant à l’avancé\, sans compétition.
LOCATION:Espace Camille Saint-Saëns\, Place du Marché 1\, Vevey\, Vaud\, 
 1800\, Suisse
GEO:46.459309;6.842947
X-APPLE-STRUCTURED-LOCATION;VALUE=URI;X-ADDRESS=Place du Marché 1\, Vevey\
 , Vaud\, 1800\, Suisse;X-APPLE-RADIUS=100;X-TITLE=Espace Camille Saint-Sa
 ëns:geo:46.459309,6.842947
END:VEVENT
BEGIN:VTIMEZONE
TZID:Europe/Zurich
X-LIC-LOCATION:Europe/Zurich
BEGIN:DAYLIGHT
DTSTART:20240331T030000
TZOFFSETFROM:+0100
TZOFFSETTO:+0200
TZNAME:CEST
END:DAYLIGHT
END:VTIMEZONE
END:VCALENDAR